BEGIN:VCALENDAR
VERSION:2.0
PRODID:-//hacksw/handcal//NONSGML v1.0//EN
BEGIN:VEVENT
SUMMARY:Conference de sensibilisation des violences en milieu sportif
UID:e57ad5ee-5353-4364-a46e-c257b32454cc
DTSTART:20260507T181500Z
DTEND:20260507T201500Z
LOCATION:Localisation cine vaillant 44120 VERTOU
CATEGORIES:Formation
STATUS:
DESCRIPTION:<p>Dans le cadre de notre engagement pour un
 environnement sportif sain, respectueux et<br />
 securise pour tous,
 La Vaillante organise <strong>une conference de sensibilisation et de
 prevention<br />
 aux violences sexuelles et au bizutage en milieu
 sportif.</strong><br />
 Cette intervention sera animee par
 <strong>l’<span style="color:#27ae60;">association Colosse aux
 pieds d’argile</span></strong>, reconnue pour<br />
 son expertise
 aupres des clubs sportifs.<br />
 Cette rencontre a pour objectif de
 vous aider a mieux comprendre ces problematiques, a<br />
 identifier
 les situations a risque et a vous donner des conseils concrets pour
 prevenir, reagir et<br />
 accompagner.<br />
 Votre presence est
 importante, car chacun d’entre nous peut contribuer a creer un<br
 />
 environnement sur et bienveillant. Ensemble, faisons de notre club
 un lieu ou le respect, la<br />
 securite et l’integrite sont au
 cœur de nos pratiques.</p>
 
 <p><strong>Date limite pour les
 inscriptions : 22 Avril </strong></p>
 
 <p><strong>RENDEZ-VOUS LE
 JEUDI 7 MAI 2026 a 20H15 au Cine-Vaillant !</strong></p>
URL;VALUE=URI:https://www.vaillantevertou.net/evenements/2026/05/07/conference-de-sensibilisation-des-violences-en-milieu-sportif-2439085
END:VEVENT
END:VCALENDAR
